BEGIN:VCALENDAR
VERSION:2.0
PRODID:-//The Minnesota Millers - ECPv6.15.3//NONSGML v1.0//EN
CALSCALE:GREGORIAN
METHOD:PUBLISH
X-ORIGINAL-URL:https://www.mnmillers.org
X-WR-CALDESC:Events for The Minnesota Millers
REFRESH-INTERVAL;VALUE=DURATION:PT1H
X-Robots-Tag:noindex
X-PUBLISHED-TTL:PT1H
BEGIN:VTIMEZONE
TZID:America/Chicago
BEGIN:DAYLIGHT
TZOFFSETFROM:-0600
TZOFFSETTO:-0500
TZNAME:CDT
DTSTART:20160313T080000
END:DAYLIGHT
BEGIN:STANDARD
TZOFFSETFROM:-0500
TZOFFSETTO:-0600
TZNAME:CST
DTSTART:20161106T070000
END:STANDARD
END:VTIMEZONE
BEGIN:VEVENT
DTSTART;TZID=America/Chicago:20160506T170000
DTEND;TZID=America/Chicago:20160506T210000
DTSTAMP:20260423T130957
CREATED:20160502T172944Z
LAST-MODIFIED:20160502T172944Z
UID:219-1462554000-1462568400@www.mnmillers.org
SUMMARY:Baseball in the Dark
DESCRIPTION:Come out and support the Minnesota Millers as we take part in Baseball in the Dark\, in Hudson Wisconsin.  Beep Baseball combined with Dining in the dark. \n  \n  \n\nActivities for all begin at at 5:00 PM \nGame: Minnesota Millers at Hudson Area community\, 6:00 PM \n  \ntickets are available for purchase at: \nhttps://baseballinthedark.eventbrite.com \n  \n 
URL:https://www.mnmillers.org/event/baseball-in-the-dark-2/
LOCATION:Hudson Middle School\, 1300 Carmichael Road\, Hudson \, 54016\, United States
CATEGORIES:Minnesota Millers Game
END:VEVENT
END:VCALENDAR