BEGIN:VCALENDAR
VERSION:2.0
PRODID:-//The Minnesota Millers - ECPv6.15.3//NONSGML v1.0//EN
CALSCALE:GREGORIAN
METHOD:PUBLISH
X-ORIGINAL-URL:https://www.mnmillers.org
X-WR-CALDESC:Events for The Minnesota Millers
REFRESH-INTERVAL;VALUE=DURATION:PT1H
X-Robots-Tag:noindex
X-PUBLISHED-TTL:PT1H
BEGIN:VTIMEZONE
TZID:America/Chicago
BEGIN:DAYLIGHT
TZOFFSETFROM:-0600
TZOFFSETTO:-0500
TZNAME:CDT
DTSTART:20140309T080000
END:DAYLIGHT
BEGIN:STANDARD
TZOFFSETFROM:-0500
TZOFFSETTO:-0600
TZNAME:CST
DTSTART:20141102T070000
END:STANDARD
BEGIN:DAYLIGHT
TZOFFSETFROM:-0600
TZOFFSETTO:-0500
TZNAME:CDT
DTSTART:20150308T080000
END:DAYLIGHT
BEGIN:STANDARD
TZOFFSETFROM:-0500
TZOFFSETTO:-0600
TZNAME:CST
DTSTART:20151101T070000
END:STANDARD
BEGIN:DAYLIGHT
TZOFFSETFROM:-0600
TZOFFSETTO:-0500
TZNAME:CDT
DTSTART:20160313T080000
END:DAYLIGHT
BEGIN:STANDARD
TZOFFSETFROM:-0500
TZOFFSETTO:-0600
TZNAME:CST
DTSTART:20161106T070000
END:STANDARD
BEGIN:DAYLIGHT
TZOFFSETFROM:-0600
TZOFFSETTO:-0500
TZNAME:CDT
DTSTART:20170312T080000
END:DAYLIGHT
BEGIN:STANDARD
TZOFFSETFROM:-0500
TZOFFSETTO:-0600
TZNAME:CST
DTSTART:20171105T070000
END:STANDARD
BEGIN:DAYLIGHT
TZOFFSETFROM:-0600
TZOFFSETTO:-0500
TZNAME:CDT
DTSTART:20180311T080000
END:DAYLIGHT
BEGIN:STANDARD
TZOFFSETFROM:-0500
TZOFFSETTO:-0600
TZNAME:CST
DTSTART:20181104T070000
END:STANDARD
BEGIN:DAYLIGHT
TZOFFSETFROM:-0600
TZOFFSETTO:-0500
TZNAME:CDT
DTSTART:20190310T080000
END:DAYLIGHT
BEGIN:STANDARD
TZOFFSETFROM:-0500
TZOFFSETTO:-0600
TZNAME:CST
DTSTART:20191103T070000
END:STANDARD
BEGIN:DAYLIGHT
TZOFFSETFROM:-0600
TZOFFSETTO:-0500
TZNAME:CDT
DTSTART:20200308T080000
END:DAYLIGHT
BEGIN:STANDARD
TZOFFSETFROM:-0500
TZOFFSETTO:-0600
TZNAME:CST
DTSTART:20201101T070000
END:STANDARD
BEGIN:DAYLIGHT
TZOFFSETFROM:-0600
TZOFFSETTO:-0500
TZNAME:CDT
DTSTART:20210314T080000
END:DAYLIGHT
BEGIN:STANDARD
TZOFFSETFROM:-0500
TZOFFSETTO:-0600
TZNAME:CST
DTSTART:20211107T070000
END:STANDARD
BEGIN:DAYLIGHT
TZOFFSETFROM:-0600
TZOFFSETTO:-0500
TZNAME:CDT
DTSTART:20220313T080000
END:DAYLIGHT
BEGIN:STANDARD
TZOFFSETFROM:-0500
TZOFFSETTO:-0600
TZNAME:CST
DTSTART:20221106T070000
END:STANDARD
BEGIN:DAYLIGHT
TZOFFSETFROM:-0600
TZOFFSETTO:-0500
TZNAME:CDT
DTSTART:20230312T080000
END:DAYLIGHT
BEGIN:STANDARD
TZOFFSETFROM:-0500
TZOFFSETTO:-0600
TZNAME:CST
DTSTART:20231105T070000
END:STANDARD
BEGIN:DAYLIGHT
TZOFFSETFROM:-0600
TZOFFSETTO:-0500
TZNAME:CDT
DTSTART:20240310T080000
END:DAYLIGHT
BEGIN:STANDARD
TZOFFSETFROM:-0500
TZOFFSETTO:-0600
TZNAME:CST
DTSTART:20241103T070000
END:STANDARD
BEGIN:DAYLIGHT
TZOFFSETFROM:-0600
TZOFFSETTO:-0500
TZNAME:CDT
DTSTART:20250309T080000
END:DAYLIGHT
BEGIN:STANDARD
TZOFFSETFROM:-0500
TZOFFSETTO:-0600
TZNAME:CST
DTSTART:20251102T070000
END:STANDARD
END:VTIMEZONE
BEGIN:VEVENT
DTSTART;TZID=America/Chicago:20250628T093000
DTEND;TZID=America/Chicago:20250628T120000
DTSTAMP:20260423T095958
CREATED:20250418T132430Z
LAST-MODIFIED:20250418T132430Z
UID:521-1751103000-1751112000@www.mnmillers.org
SUMMARY:STP Beep Baseball Clinic
DESCRIPTION:The MNMillers will be hosting a clinic for the Student Transition Program on Saturday\, June 28\, 2025 at St. Thomas University.\nFor more information\, Contact the MNMillers at info@mnmillers.org.
URL:https://www.mnmillers.org/event/stp-beep-baseball-clinic/
LOCATION:ST Thomas University\, North Baseball Field\, St. Paul\, MN
CATEGORIES:MN Millers Beep Baseball Practice,STP
ATTACH;FMTTYPE=image/jpeg:https://www.mnmillers.org/wp-content/uploads/2025/04/MNMillers-Logo.jpg
END:VEVENT
BEGIN:VEVENT
DTSTART;TZID=America/Chicago:20250504T093000
DTEND;TZID=America/Chicago:20250504T093000
DTSTAMP:20260423T095958
CREATED:20250501T162618Z
LAST-MODIFIED:20250501T162618Z
UID:537-1746351000-1746351000@www.mnmillers.org
SUMMARY:MNMillers 2025 Opening Day Practice
DESCRIPTION:MN Millers 2025 Opening Day Practice. \nAddress:\n2215 Shawnee Dr | N. St. Paul\, 55109\nTime: 9:30AM until Noon\, May 4\, 2025. \nContact Stephen Guerra\, MN Millers for more information\, info@mnmillers.org
URL:https://www.mnmillers.org/event/mnmillers-2025-opening-day-practice/
LOCATION:Rear of Casey Lake Park\, 2215 Shawnee Dr\, North St Paul\, MN 55109\, N. St. Paul\, MN\, 55109
CATEGORIES:MN Millers Beep Baseball Practice
END:VEVENT
BEGIN:VEVENT
DTSTART;TZID=America/Chicago:20240519T093000
DTEND;TZID=America/Chicago:20240519T120000
DTSTAMP:20260423T095958
CREATED:20240515T124329Z
LAST-MODIFIED:20240515T124329Z
UID:498-1716111000-1716120000@www.mnmillers.org
SUMMARY:Minnesota Millers Practice
DESCRIPTION:Event: Minnesota Millers 2024 Beep Baseball Practice Opener.\nDate: Sunday\, May 19\, 2024.\nTime: 9:30AM until Noon.\nLocation: Rear of Casey Lake Park:\n2039 17th Avenue\, E\nN. St. Paul\, MN 55109
URL:https://www.mnmillers.org/event/minnesota-millers-practice-2/
CATEGORIES:MN Millers Beep Baseball Practice
END:VEVENT
BEGIN:VEVENT
DTSTART;TZID=America/Chicago:20230724T090000
DTEND;TZID=America/Chicago:20230724T120000
DTSTAMP:20260423T095958
CREATED:20230629T002603Z
LAST-MODIFIED:20230629T002603Z
UID:476-1690189200-1690200000@www.mnmillers.org
SUMMARY:MNMillers Practice
DESCRIPTION:Date: July 22\, 2023\nTime: 9AM – Noon\nLocation: Rear of Casey Lake Park\n2039 17th Avenue\, E\nN. St. Paul\, MN 55109
URL:https://www.mnmillers.org/event/mnmillers-practice-9/
LOCATION:Rear of Casey Lake Park\, 2215 Shawnee Dr\, North St Paul\, MN 55109\, N. St. Paul\, MN\, 55109
CATEGORIES:MN Millers Beep Baseball Practice
END:VEVENT
BEGIN:VEVENT
DTSTART;TZID=America/Chicago:20230708T090000
DTEND;TZID=America/Chicago:20230708T120000
DTSTAMP:20260423T095958
CREATED:20230629T002314Z
LAST-MODIFIED:20230629T002314Z
UID:474-1688806800-1688817600@www.mnmillers.org
SUMMARY:MNMillers Practice
DESCRIPTION:Date: July 8\, 2023\nTime: 9AM – 12 Noon\nLocation: Rear of Casey Lake Park\n2039 17th Avenue\, E\nN. St. Paul\, MN 55109
URL:https://www.mnmillers.org/event/mnmillers-practice-8/
LOCATION:Rear of Casey Lake Park\, 2215 Shawnee Dr\, North St Paul\, MN 55109\, N. St. Paul\, MN\, 55109
CATEGORIES:MN Millers Beep Baseball Practice
END:VEVENT
BEGIN:VEVENT
DTSTART;TZID=America/Chicago:20230603T150000
DTEND;TZID=America/Chicago:20230603T170000
DTSTAMP:20260423T095958
CREATED:20230502T230306Z
LAST-MODIFIED:20230502T230306Z
UID:467-1685804400-1685811600@www.mnmillers.org
SUMMARY:MNMillers Practice
DESCRIPTION:Date: June 3\, 2023\nTime: 3-5PM\nLocation: Rear of Casey Lake Park\n2039 17th Avenue\, E\nN. St. Paul\, MN 55109
URL:https://www.mnmillers.org/event/mnmillers-practice-7/
LOCATION:Rear of Casey Lake Park\, 2215 Shawnee Dr\, North St Paul\, MN 55109\, N. St. Paul\, MN\, 55109
CATEGORIES:MN Millers Beep Baseball Practice
END:VEVENT
BEGIN:VEVENT
DTSTART;TZID=America/Chicago:20230520T150000
DTEND;TZID=America/Chicago:20230520T170000
DTSTAMP:20260423T095958
CREATED:20230502T230054Z
LAST-MODIFIED:20230502T230054Z
UID:465-1684594800-1684602000@www.mnmillers.org
SUMMARY:MNMillers Practice
DESCRIPTION:Date: May 20\, 2023\ntime: 3-5PM\nLocation: Rear of Casey Lake Park.\n2039 17th Avenue\, E\nN. St Paul\, MN 55109
URL:https://www.mnmillers.org/event/mnmillers-practice-6/
LOCATION:Rear of Casey Lake Park\, 2215 Shawnee Dr\, North St Paul\, MN 55109\, N. St. Paul\, MN\, 55109
CATEGORIES:MN Millers Beep Baseball Practice
END:VEVENT
BEGIN:VEVENT
DTSTART;TZID=America/Chicago:20230506T150000
DTEND;TZID=America/Chicago:20230506T170000
DTSTAMP:20260423T095958
CREATED:20230502T225233Z
LAST-MODIFIED:20230502T230425Z
UID:463-1683385200-1683392400@www.mnmillers.org
SUMMARY:MNMillers Opening Day Practice
DESCRIPTION:Date: Saturday\, May 6\, 2023\nLocation: Rear of Casey Lake Park\n2039 17th Avenue\, E\nN. St. Paul\, MN 55109
URL:https://www.mnmillers.org/event/mnmillers-opening-day-practice/
LOCATION:Rear of Casey Lake Park\, 2215 Shawnee Dr\, North St Paul\, MN 55109\, N. St. Paul\, MN\, 55109
CATEGORIES:MN Millers Beep Baseball Practice
END:VEVENT
BEGIN:VEVENT
DTSTART;TZID=America/Chicago:20220618T100000
DTEND;TZID=America/Chicago:20220618T120000
DTSTAMP:20260423T095958
CREATED:20220314T200324Z
LAST-MODIFIED:20220614T205237Z
UID:443-1655546400-1655553600@www.mnmillers.org
SUMMARY:MNMillers Beep Baseball with STP
DESCRIPTION:Event: The Minnesota Millers host STP\nDate: Saturday\, June 18\, 2022\nTime: 10AM – 12:00 Noon\nLocation: View this location on the web.\nfor more information contact the Minnesota Millers at: info@mnmillers.org
URL:https://www.mnmillers.org/event/stp/
LOCATION:ST Thomas University\, North Baseball Field\, St. Paul\, MN
CATEGORIES:MN Millers Beep Baseball Practice,STP
END:VEVENT
BEGIN:VEVENT
DTSTART;TZID=America/Chicago:20220514T090000
DTEND;TZID=America/Chicago:20220514T090000
DTSTAMP:20260423T095958
CREATED:20220508T210056Z
LAST-MODIFIED:20220508T210333Z
UID:449-1652518800-1652518800@www.mnmillers.org
SUMMARY:MNMillers Practice
DESCRIPTION:Date: Saturday\, May 14\, 2022\nTime: 9AM CST\nLocation: Rear parking lot of Casey Lake Park.
URL:https://www.mnmillers.org/event/mnmillers-practice-5/
LOCATION:Casey Lake Park\, N. St. Paul\, MN 55109\, 2101 17th Ave.\, North St. Paul\, 55109
CATEGORIES:MN Millers Beep Baseball Practice
END:VEVENT
BEGIN:VEVENT
DTSTART;TZID=America/Chicago:20220423T100000
DTEND;TZID=America/Chicago:20220423T130000
DTSTAMP:20260423T095958
CREATED:20220411T125050Z
LAST-MODIFIED:20220411T125050Z
UID:446-1650708000-1650718800@www.mnmillers.org
SUMMARY:2022 Opening Day Practice
DESCRIPTION:Date: Saturday\, April 23\, 2022\nTime: 10AM – 1PM CST\nLocation: Casey Lake Park\n2039 17 Avenue E. North St. Paul\, MN 55109\n***For MetroMo Mobility users\, direct the driver to the rear parking lot.
URL:https://www.mnmillers.org/event/2022-opening-day-practice/
CATEGORIES:MN Millers Beep Baseball Practice
END:VEVENT
BEGIN:VEVENT
DTSTART;TZID=America/Chicago:20210516T093000
DTEND;TZID=America/Chicago:20210516T130000
DTSTAMP:20260423T095958
CREATED:20210502T123457Z
LAST-MODIFIED:20210502T123457Z
UID:396-1621157400-1621170000@www.mnmillers.org
SUMMARY:MNMillers Practice
DESCRIPTION:Date: Sunday\, May 16\, 2021\nTime: 9:30AM – 1PM\nLocation: Casey Lake Park\,\n2215 Shawnee Drive\, North St. Paul\, 55109\nFor more information\, call 507.722.2864
URL:https://www.mnmillers.org/event/mnmillers-practice-4/
CATEGORIES:MN Millers Beep Baseball Practice
END:VEVENT
BEGIN:VEVENT
DTSTART;TZID=America/Chicago:20210501T093000
DTEND;TZID=America/Chicago:20210501T120000
DTSTAMP:20260423T095958
CREATED:20210426T122705Z
LAST-MODIFIED:20210426T122705Z
UID:394-1619861400-1619870400@www.mnmillers.org
SUMMARY:MNMillers Practice
DESCRIPTION:
URL:https://www.mnmillers.org/event/mnmillers-practice-3/
LOCATION:Casey Lake Park\, N. St. Paul\, MN 55109\, 2101 17th Ave.\, North St. Paul\, 55109
CATEGORIES:MN Millers Beep Baseball Practice
END:VEVENT
BEGIN:VEVENT
DTSTART;TZID=America/Chicago:20190525T100000
DTEND;TZID=America/Chicago:20190525T130000
DTSTAMP:20260423T095958
CREATED:20190523T033017Z
LAST-MODIFIED:20190523T033017Z
UID:381-1558778400-1558789200@www.mnmillers.org
SUMMARY:MNMillers memorial Day Weekend Practice
DESCRIPTION:Location: Roy Watson Soccer Complex\n1000 Essex Parkway NW\nRochester\, MN 55901 \ntime: 10AM – 1PM CSt\nFor more information Email the MNMillers at info@mnmillers.org
URL:https://www.mnmillers.org/event/mnmillers-memorial-day-weekend-practice/
LOCATION:Roy Watson Soccer Complex\, 1000 Essex Pkwy NW\,\, Rochester\, 55901
CATEGORIES:MN Millers Beep Baseball Practice
END:VEVENT
BEGIN:VEVENT
DTSTART;TZID=America/Chicago:20190504T093000
DTEND;TZID=America/Chicago:20190504T120000
DTSTAMP:20260423T095958
CREATED:20190429T091735Z
LAST-MODIFIED:20190429T105914Z
UID:375-1556962200-1556971200@www.mnmillers.org
SUMMARY:MNMillers Practice
DESCRIPTION:Date: May 4\, 2019 \nTime: 9:30AM – Noon \nLocation: Casey Lake Park \n2039 17th Avenue\, E \nN. St. Paul\, MN 55109 \n  \n 
URL:https://www.mnmillers.org/event/mnmillers-practice-2/
LOCATION:Casey Lake Park\, N. St. Paul\, MN 55109\, 2101 17th Ave.\, North St. Paul\, 55109
CATEGORIES:MN Millers Beep Baseball Practice
END:VEVENT
BEGIN:VEVENT
DTSTART;TZID=America/Chicago:20190428T093000
DTEND;TZID=America/Chicago:20190428T113000
DTSTAMP:20260423T095958
CREATED:20190420T125501Z
LAST-MODIFIED:20190420T125918Z
UID:370-1556443800-1556451000@www.mnmillers.org
SUMMARY:MNMillers Opening Day Practice
DESCRIPTION:Practice for all MNMillers.\nFor questions or more information\, contact The Minesota Millers at info@mnmillers.org \n 
URL:https://www.mnmillers.org/event/mnmillers-opening-day/
LOCATION:Casey Lake Park\, N. St. Paul\, MN 55109\, 2101 17th Ave.\, North St. Paul\, 55109
CATEGORIES:MN Millers Beep Baseball Practice
END:VEVENT
BEGIN:VEVENT
DTSTART;TZID=America/Chicago:20180526T100000
DTEND;TZID=America/Chicago:20180526T130000
DTSTAMP:20260423T095958
CREATED:20180509T025612Z
LAST-MODIFIED:20180509T025903Z
UID:290-1527328800-1527339600@www.mnmillers.org
SUMMARY:MNMillers Practice (Rochester)
DESCRIPTION:come out and support and check out the great game of Beep Baseball.  the Minnesota Millers are gearing up for the Bolingbrook Beepball Bash and the 2018 World Series in Eau Claire Wisconsin. \n  \nBring a chair\, sunscreen\, and enjoy the great outdoors while watching your Minnesota Millers. \n  \nDate: Saturday\, May 26\, 2018 \ntime: 10AM until 1PM \ncost: Free \n  \n 
URL:https://www.mnmillers.org/event/mnmillers-practice-rochester/
LOCATION:Roy Watson Soccer Complex\, 1000 Essex Pkwy NW\,\, Rochester\, 55901
CATEGORIES:MN Millers Beep Baseball Practice
END:VEVENT
BEGIN:VEVENT
DTSTART;TZID=America/Chicago:20180519T100000
DTEND;TZID=America/Chicago:20180519T120000
DTSTAMP:20260423T095958
CREATED:20180509T024024Z
LAST-MODIFIED:20180509T030251Z
UID:286-1526724000-1526731200@www.mnmillers.org
SUMMARY:MNMillers Practice
DESCRIPTION:Come out and watch and support the Minnesota Millers as they prepare to take part in the 17th annual Bolingbrook Beepball Bash in mid June. \nThe Road to Eau claire (2018 Beep Baseball World Series) begins with the team practices. \n  \n  \nDate: Saturday\, May 19\, 2018 \ntime: 10AM – Noon \nLocation: Casey Lake Park\, N. St. Paul\, MN \n 
URL:https://www.mnmillers.org/event/mnmillers-practice/
LOCATION:Casey Lake Park\, N. St. Paul\, MN 55109\, 2101 17th Ave.\, North St. Paul\, 55109
CATEGORIES:MN Millers Beep Baseball Practice
END:VEVENT
BEGIN:VEVENT
DTSTART;TZID=America/Chicago:20180408T100000
DTEND;TZID=America/Chicago:20180408T120000
DTSTAMP:20260423T095958
CREATED:20180331T032615Z
LAST-MODIFIED:20180331T032615Z
UID:279-1523181600-1523188800@www.mnmillers.org
SUMMARY:MNMillers Batting Practice
DESCRIPTION:Minnesota Millers Team Photo\n  \nMinnesota Millers Batting Practice\nDate: Sunday\, April 8\, 2018\nTime: 10AM until Noon\nLocation: De La Salle Highschool\n1 De La Salle Drive\nMinneapolis\, MN 55401 \n  \nFor more information contact the Minnesota Millers at:\ninfo@mnmillers.org \n 
URL:https://www.mnmillers.org/event/mnmillers-batting-practice/
CATEGORIES:MN Millers Beep Baseball Practice
END:VEVENT
BEGIN:VEVENT
DTSTART;TZID=America/Chicago:20160514T100000
DTEND;TZID=America/Chicago:20160514T120000
DTSTAMP:20260423T095958
CREATED:20160504T153645Z
LAST-MODIFIED:20160504T221930Z
UID:222-1463220000-1463227200@www.mnmillers.org
SUMMARY:Minnesota Millers Practice
DESCRIPTION:
URL:https://www.mnmillers.org/event/minnesota-millers-practice/
LOCATION:Casey Lake Park\, N. St. Paul\, MN 55109\, 2101 17th Ave.\, North St. Paul\, 55109
CATEGORIES:MN Millers Beep Baseball Practice
END:VEVENT
BEGIN:VEVENT
DTSTART;TZID=America/Chicago:20140517T100000
DTEND;TZID=America/Chicago:20140517T130000
DTSTAMP:20260423T095958
CREATED:20140512T225227Z
LAST-MODIFIED:20140512T231522Z
UID:78-1400320800-1400331600@www.mnmillers.org
SUMMARY:MN Millers Practice
DESCRIPTION:The Minnesota Millers will be holding its first full squad practice on May 17th\, 2014 from 10 AM until 1 PM at: \n  \nCreton-Derham Hall Soccer field \n550 South Albert Avenue \nSt. Paul\, MN 55116 \n  \nWe are glad to welcome new members to the team and are hoping for a great start to a great swason.  The Minnesota Millers are taking part in the 2014 World Series being held in Rochester\, Minnesota from August 4 through August 9\, 2014. \n 
URL:https://www.mnmillers.org/event/mn-millers-practice/
LOCATION:Creton-Derham Hall Soccer field\, 550 South Albert Street\, \, St. Paul\, 55116
CATEGORIES:MN Millers Beep Baseball Practice
END:VEVENT
END:VCALENDAR