BEGIN:VCALENDAR
VERSION:2.0
PRODID:-//The Minnesota Millers - ECPv6.15.3//NONSGML v1.0//EN
CALSCALE:GREGORIAN
METHOD:PUBLISH
X-WR-CALNAME:The Minnesota Millers
X-ORIGINAL-URL:https://www.mnmillers.org
X-WR-CALDESC:Events for The Minnesota Millers
REFRESH-INTERVAL;VALUE=DURATION:PT1H
X-Robots-Tag:noindex
X-PUBLISHED-TTL:PT1H
BEGIN:VTIMEZONE
TZID:America/Chicago
BEGIN:DAYLIGHT
TZOFFSETFROM:-0600
TZOFFSETTO:-0500
TZNAME:CDT
DTSTART:20140309T080000
END:DAYLIGHT
BEGIN:STANDARD
TZOFFSETFROM:-0500
TZOFFSETTO:-0600
TZNAME:CST
DTSTART:20141102T070000
END:STANDARD
BEGIN:DAYLIGHT
TZOFFSETFROM:-0600
TZOFFSETTO:-0500
TZNAME:CDT
DTSTART:20150308T080000
END:DAYLIGHT
BEGIN:STANDARD
TZOFFSETFROM:-0500
TZOFFSETTO:-0600
TZNAME:CST
DTSTART:20151101T070000
END:STANDARD
BEGIN:DAYLIGHT
TZOFFSETFROM:-0600
TZOFFSETTO:-0500
TZNAME:CDT
DTSTART:20160313T080000
END:DAYLIGHT
BEGIN:STANDARD
TZOFFSETFROM:-0500
TZOFFSETTO:-0600
TZNAME:CST
DTSTART:20161106T070000
END:STANDARD
BEGIN:DAYLIGHT
TZOFFSETFROM:-0600
TZOFFSETTO:-0500
TZNAME:CDT
DTSTART:20170312T080000
END:DAYLIGHT
BEGIN:STANDARD
TZOFFSETFROM:-0500
TZOFFSETTO:-0600
TZNAME:CST
DTSTART:20171105T070000
END:STANDARD
BEGIN:DAYLIGHT
TZOFFSETFROM:-0600
TZOFFSETTO:-0500
TZNAME:CDT
DTSTART:20180311T080000
END:DAYLIGHT
BEGIN:STANDARD
TZOFFSETFROM:-0500
TZOFFSETTO:-0600
TZNAME:CST
DTSTART:20181104T070000
END:STANDARD
BEGIN:DAYLIGHT
TZOFFSETFROM:-0600
TZOFFSETTO:-0500
TZNAME:CDT
DTSTART:20190310T080000
END:DAYLIGHT
BEGIN:STANDARD
TZOFFSETFROM:-0500
TZOFFSETTO:-0600
TZNAME:CST
DTSTART:20191103T070000
END:STANDARD
BEGIN:DAYLIGHT
TZOFFSETFROM:-0600
TZOFFSETTO:-0500
TZNAME:CDT
DTSTART:20200308T080000
END:DAYLIGHT
BEGIN:STANDARD
TZOFFSETFROM:-0500
TZOFFSETTO:-0600
TZNAME:CST
DTSTART:20201101T070000
END:STANDARD
END:VTIMEZONE
BEGIN:VEVENT
DTSTART;TZID=America/Chicago:20200329T100000
DTEND;TZID=America/Chicago:20200329T120000
DTSTAMP:20260423T112753
CREATED:20200122T132601Z
LAST-MODIFIED:20200122T132601Z
UID:386-1585476000-1585483200@www.mnmillers.org
SUMMARY:2020 Indoor Batting Practice
DESCRIPTION:Date: Sunday\, March 29\, 2020\nLocation: DeLaSalle High School\nOne DeLaSalle Drive\nMinneapolis\, MN 55401 \nTime: 10:00AM until Noon\nFor more information\, contact the Minnesota Millers by email at info@mnmillers.org
URL:https://www.mnmillers.org/event/2020-indoor-batting-practice/
LOCATION:DeLaSalle High School\, One DeLaSalle Drive\, Minneapolis\, MN\, 55401\, United States
CATEGORIES:MNMillers Batting Practice
END:VEVENT
BEGIN:VEVENT
DTSTART;TZID=America/Chicago:20190615T100000
DTEND;TZID=America/Chicago:20190615T120000
DTSTAMP:20260423T112753
CREATED:20190130T211935Z
LAST-MODIFIED:20190402T152940Z
UID:329-1560592800-1560600000@www.mnmillers.org
SUMMARY:Kids Day Beep Baseball
DESCRIPTION:  \nThe Minnesota Millers Beep Baseball Team will be hosting a Kids Beepball Day to teach the game of beep baseball. \nBlind & Visually impaired kids\, 15 and under are invited to participate & learn the game . It will be a modified version of the International game incorporating a T-Ball version of the sport.  All skill levels are welcome and encouraged to give it a try! \nPlease register for this event by going to mnmillers.org/kids  \nFor more information contact the Minnesota Millers at info@mnmillers.org
URL:https://www.mnmillers.org/event/kids-day-beep-baseball/
LOCATION:Casey Lake Park\, N. St. Paul\, MN 55109\, 2101 17th Ave.\, North St. Paul\, 55109
END:VEVENT
BEGIN:VEVENT
DTSTART;TZID=America/Chicago:20190607T100000
DTEND;TZID=America/Chicago:20190609T200000
DTSTAMP:20260423T112753
CREATED:20190129T124048Z
LAST-MODIFIED:20190129T124048Z
UID:325-1559901600-1560110400@www.mnmillers.org
SUMMARY:2019 Bolingbrook Beepball Bash
DESCRIPTION:18th Annual Bolingbrook Beepball Bash\nThe Bolingbrook Beepball Bash is hosted and sponsored by the Bolingbrook Lions and the community of Bolingbrook Illinois. \nDates: June 7-9\, 2019\nGames will be on Saturday\, June 8 and Sunday\, June 9\, 2019. \n\nTournament Info\nThe teams participating in the tournament are: \n\nchicago Comets (Hosts)\nAustin Blackhawks\nCleveland Scrappers\nIndy Edge\nIndy Thunder\nMinnesota Millers\nNew Jersey Titans\nSt. Louis Firing Squad\n\n  \nTournament Fields\nBolingbrook Aquatic Park\n200 Lindsey Lane\, Bolingbrook\, IL 60440 \n  \nTournament Host Hotel\nHoliday Inn and Suites\n205 Remington Blvd. | Bolingbrook\, IL 60440\nCall the Frontdesk and make reservations for the Holiday Inn and suites\nvisit the Bolingbrook Holiday Inn and Suites on the web. \n\nHotel Information\nThe room rate is $101 per night plus 17% tax\, per night.  This includes two breakfast vouchers per room\, per night. It has been arranged for early breakfast for both Saturday and Sunday mornings\, beginning at 6:00 AM.\nThose who are staying at the host hotel\, you will be provided a late checkout on Sunday for 1:00 PM.\nThe hospitality reception on Friday night will be at the Holiday Inn and the Saturday night banquet will be at the same location. \n 
URL:https://www.mnmillers.org/event/2019-bolingbrook-beepball-bash/
LOCATION:Bolingbrook Recreation and Aquatic Center\, 200 Lindsey Lane\, Bolingbrook\, IL\, 60440
END:VEVENT
BEGIN:VEVENT
DTSTART;TZID=America/Chicago:20190525T100000
DTEND;TZID=America/Chicago:20190525T130000
DTSTAMP:20260423T112753
CREATED:20190523T033017Z
LAST-MODIFIED:20190523T033017Z
UID:381-1558778400-1558789200@www.mnmillers.org
SUMMARY:MNMillers memorial Day Weekend Practice
DESCRIPTION:Location: Roy Watson Soccer Complex\n1000 Essex Parkway NW\nRochester\, MN 55901 \ntime: 10AM – 1PM CSt\nFor more information Email the MNMillers at info@mnmillers.org
URL:https://www.mnmillers.org/event/mnmillers-memorial-day-weekend-practice/
LOCATION:Roy Watson Soccer Complex\, 1000 Essex Pkwy NW\,\, Rochester\, 55901
CATEGORIES:MN Millers Beep Baseball Practice
END:VEVENT
BEGIN:VEVENT
DTSTART;TZID=America/Chicago:20190511T130000
DTEND;TZID=America/Chicago:20190511T160000
DTSTAMP:20260423T112753
CREATED:20190322T231544Z
LAST-MODIFIED:20190322T235423Z
UID:346-1557579600-1557590400@www.mnmillers.org
SUMMARY:2019 MNMillers Mug & Silent Auction
DESCRIPTION:  \nPurchase your MNMIllers mug for this event.
URL:https://www.mnmillers.org/event/2019-millers-beepball-beer-bash-silent-auction/
LOCATION:Tom Reids Hockey City and Pub\, 258 7th St W.\, St. Paul\, MN\, 55102
CATEGORIES:Fund Raiser
END:VEVENT
BEGIN:VEVENT
DTSTART;TZID=America/Chicago:20190504T093000
DTEND;TZID=America/Chicago:20190504T120000
DTSTAMP:20260423T112753
CREATED:20190429T091735Z
LAST-MODIFIED:20190429T105914Z
UID:375-1556962200-1556971200@www.mnmillers.org
SUMMARY:MNMillers Practice
DESCRIPTION:Date: May 4\, 2019 \nTime: 9:30AM – Noon \nLocation: Casey Lake Park \n2039 17th Avenue\, E \nN. St. Paul\, MN 55109 \n  \n 
URL:https://www.mnmillers.org/event/mnmillers-practice-2/
LOCATION:Casey Lake Park\, N. St. Paul\, MN 55109\, 2101 17th Ave.\, North St. Paul\, 55109
CATEGORIES:MN Millers Beep Baseball Practice
END:VEVENT
BEGIN:VEVENT
DTSTART;TZID=America/Chicago:20190428T093000
DTEND;TZID=America/Chicago:20190428T113000
DTSTAMP:20260423T112753
CREATED:20190420T125501Z
LAST-MODIFIED:20190420T125918Z
UID:370-1556443800-1556451000@www.mnmillers.org
SUMMARY:MNMillers Opening Day Practice
DESCRIPTION:Practice for all MNMillers.\nFor questions or more information\, contact The Minesota Millers at info@mnmillers.org \n 
URL:https://www.mnmillers.org/event/mnmillers-opening-day/
LOCATION:Casey Lake Park\, N. St. Paul\, MN 55109\, 2101 17th Ave.\, North St. Paul\, 55109
CATEGORIES:MN Millers Beep Baseball Practice
END:VEVENT
BEGIN:VEVENT
DTSTART;TZID=America/Chicago:20190414T100000
DTEND;TZID=America/Chicago:20190414T120000
DTSTAMP:20260423T112753
CREATED:20190129T185930Z
LAST-MODIFIED:20190129T185930Z
UID:301-1555236000-1555243200@www.mnmillers.org
SUMMARY:MnMillers Indoor Practice
DESCRIPTION:
URL:https://www.mnmillers.org/event/mnmillers-indoor-practice/
CATEGORIES:MNMillers Batting Practice
END:VEVENT
BEGIN:VEVENT
DTSTART;TZID=America/Chicago:20190407T100000
DTEND;TZID=America/Chicago:20190407T120000
DTSTAMP:20260423T112753
CREATED:20190129T190110Z
LAST-MODIFIED:20190129T190110Z
UID:299-1554631200-1554638400@www.mnmillers.org
SUMMARY:MNMillers Indoor Practice
DESCRIPTION:
URL:https://www.mnmillers.org/event/mnmillers-indoor-practice-2/
LOCATION:DeLaSalle High School\, One DeLaSalle Drive\, Minneapolis\, MN\, 55401\, United States
CATEGORIES:MNMillers Batting Practice
END:VEVENT
BEGIN:VEVENT
DTSTART;TZID=America/Chicago:20180526T100000
DTEND;TZID=America/Chicago:20180526T130000
DTSTAMP:20260423T112753
CREATED:20180509T025612Z
LAST-MODIFIED:20180509T025903Z
UID:290-1527328800-1527339600@www.mnmillers.org
SUMMARY:MNMillers Practice (Rochester)
DESCRIPTION:come out and support and check out the great game of Beep Baseball.  the Minnesota Millers are gearing up for the Bolingbrook Beepball Bash and the 2018 World Series in Eau Claire Wisconsin. \n  \nBring a chair\, sunscreen\, and enjoy the great outdoors while watching your Minnesota Millers. \n  \nDate: Saturday\, May 26\, 2018 \ntime: 10AM until 1PM \ncost: Free \n  \n 
URL:https://www.mnmillers.org/event/mnmillers-practice-rochester/
LOCATION:Roy Watson Soccer Complex\, 1000 Essex Pkwy NW\,\, Rochester\, 55901
CATEGORIES:MN Millers Beep Baseball Practice
END:VEVENT
BEGIN:VEVENT
DTSTART;TZID=America/Chicago:20180519T100000
DTEND;TZID=America/Chicago:20180519T120000
DTSTAMP:20260423T112753
CREATED:20180509T024024Z
LAST-MODIFIED:20180509T030251Z
UID:286-1526724000-1526731200@www.mnmillers.org
SUMMARY:MNMillers Practice
DESCRIPTION:Come out and watch and support the Minnesota Millers as they prepare to take part in the 17th annual Bolingbrook Beepball Bash in mid June. \nThe Road to Eau claire (2018 Beep Baseball World Series) begins with the team practices. \n  \n  \nDate: Saturday\, May 19\, 2018 \ntime: 10AM – Noon \nLocation: Casey Lake Park\, N. St. Paul\, MN \n 
URL:https://www.mnmillers.org/event/mnmillers-practice/
LOCATION:Casey Lake Park\, N. St. Paul\, MN 55109\, 2101 17th Ave.\, North St. Paul\, 55109
CATEGORIES:MN Millers Beep Baseball Practice
END:VEVENT
BEGIN:VEVENT
DTSTART;TZID=America/Chicago:20180408T100000
DTEND;TZID=America/Chicago:20180408T120000
DTSTAMP:20260423T112753
CREATED:20180331T032615Z
LAST-MODIFIED:20180331T032615Z
UID:279-1523181600-1523188800@www.mnmillers.org
SUMMARY:MNMillers Batting Practice
DESCRIPTION:Minnesota Millers Team Photo\n  \nMinnesota Millers Batting Practice\nDate: Sunday\, April 8\, 2018\nTime: 10AM until Noon\nLocation: De La Salle Highschool\n1 De La Salle Drive\nMinneapolis\, MN 55401 \n  \nFor more information contact the Minnesota Millers at:\ninfo@mnmillers.org \n 
URL:https://www.mnmillers.org/event/mnmillers-batting-practice/
CATEGORIES:MN Millers Beep Baseball Practice
END:VEVENT
BEGIN:VEVENT
DTSTART;TZID=America/Chicago:20160514T100000
DTEND;TZID=America/Chicago:20160514T120000
DTSTAMP:20260423T112753
CREATED:20160504T153645Z
LAST-MODIFIED:20160504T221930Z
UID:222-1463220000-1463227200@www.mnmillers.org
SUMMARY:Minnesota Millers Practice
DESCRIPTION:
URL:https://www.mnmillers.org/event/minnesota-millers-practice/
LOCATION:Casey Lake Park\, N. St. Paul\, MN 55109\, 2101 17th Ave.\, North St. Paul\, 55109
CATEGORIES:MN Millers Beep Baseball Practice
END:VEVENT
BEGIN:VEVENT
DTSTART;TZID=America/Chicago:20160506T170000
DTEND;TZID=America/Chicago:20160506T210000
DTSTAMP:20260423T112753
CREATED:20160502T172944Z
LAST-MODIFIED:20160502T172944Z
UID:219-1462554000-1462568400@www.mnmillers.org
SUMMARY:Baseball in the Dark
DESCRIPTION:Come out and support the Minnesota Millers as we take part in Baseball in the Dark\, in Hudson Wisconsin.  Beep Baseball combined with Dining in the dark. \n  \n  \n\nActivities for all begin at at 5:00 PM \nGame: Minnesota Millers at Hudson Area community\, 6:00 PM \n  \ntickets are available for purchase at: \nhttps://baseballinthedark.eventbrite.com \n  \n 
URL:https://www.mnmillers.org/event/baseball-in-the-dark-2/
LOCATION:Hudson Middle School\, 1300 Carmichael Road\, Hudson \, 54016\, United States
CATEGORIES:Minnesota Millers Game
END:VEVENT
BEGIN:VEVENT
DTSTART;VALUE=DATE:20150726
DTEND;VALUE=DATE:20150803
DTSTAMP:20260423T112753
CREATED:20150502T170253Z
LAST-MODIFIED:20150502T170253Z
UID:146-1437868800-1438559999@www.mnmillers.org
SUMMARY:World Series
DESCRIPTION:
URL:https://www.mnmillers.org/event/world-series/
LOCATION:Grace Truth Sports Park\, 373 N Greece Rd.\, Hilton\, NY\, 14468\, United States
END:VEVENT
BEGIN:VEVENT
DTSTART;TZID=America/Chicago:20150724T100000
DTEND;TZID=America/Chicago:20150724T110000
DTSTAMP:20260423T112753
CREATED:20150502T164815Z
LAST-MODIFIED:20150502T164815Z
UID:145-1437732000-1437735600@www.mnmillers.org
SUMMARY:Team Meeting
DESCRIPTION:
URL:https://www.mnmillers.org/event/team-meeting/
END:VEVENT
BEGIN:VEVENT
DTSTART;TZID=America/Chicago:20150711T100000
DTEND;TZID=America/Chicago:20150711T130000
DTSTAMP:20260423T112753
CREATED:20150502T164815Z
LAST-MODIFIED:20150502T164815Z
UID:144-1436608800-1436619600@www.mnmillers.org
SUMMARY:Team Practice
DESCRIPTION:
URL:https://www.mnmillers.org/event/team-practice-5/
LOCATION:Harvest Park\, 2561 Barclay\, Maplewood\, 55901
END:VEVENT
BEGIN:VEVENT
DTSTART;VALUE=DATE:20150628
DTEND;VALUE=DATE:20150629
DTSTAMP:20260423T112753
CREATED:20150502T171307Z
LAST-MODIFIED:20150502T171307Z
UID:151-1435449600-1435535999@www.mnmillers.org
SUMMARY:Glenco Days
DESCRIPTION:
URL:https://www.mnmillers.org/event/glenco-days/
END:VEVENT
BEGIN:VEVENT
DTSTART;TZID=America/Chicago:20150620T100000
DTEND;TZID=America/Chicago:20150620T130000
DTSTAMP:20260423T112753
CREATED:20150502T164815Z
LAST-MODIFIED:20150502T164815Z
UID:143-1434794400-1434805200@www.mnmillers.org
SUMMARY:Team Practice
DESCRIPTION:
URL:https://www.mnmillers.org/event/team-practice-4/
LOCATION:Harvest Park\, 2561 Barclay\, Maplewood\, 55901
END:VEVENT
BEGIN:VEVENT
DTSTART;VALUE=DATE:20150613
DTEND;VALUE=DATE:20150615
DTSTAMP:20260423T112753
CREATED:20150502T170928Z
LAST-MODIFIED:20150502T170928Z
UID:149-1434153600-1434326399@www.mnmillers.org
SUMMARY:Bolingbrook Beepball Bash
DESCRIPTION:
URL:https://www.mnmillers.org/event/bolingbrook-beepball-bash-2/
LOCATION:Bolingbrook Recreation and Aquatic Center\, 200 Lindsey Lane\, Bolingbrook\, IL\, 60440
END:VEVENT
BEGIN:VEVENT
DTSTART;TZID=America/Chicago:20150606T100000
DTEND;TZID=America/Chicago:20150606T130000
DTSTAMP:20260423T112753
CREATED:20150502T164815Z
LAST-MODIFIED:20150502T164815Z
UID:142-1433584800-1433595600@www.mnmillers.org
SUMMARY:Team Practice
DESCRIPTION:
URL:https://www.mnmillers.org/event/team-practice-3/
LOCATION:Harvest Park\, 2561 Barclay\, Maplewood\, 55901
END:VEVENT
BEGIN:VEVENT
DTSTART;TZID=America/Chicago:20150530T100000
DTEND;TZID=America/Chicago:20150530T130000
DTSTAMP:20260423T112753
CREATED:20150502T164815Z
LAST-MODIFIED:20150502T164815Z
UID:141-1432980000-1432990800@www.mnmillers.org
SUMMARY:Team Practice
DESCRIPTION:
URL:https://www.mnmillers.org/event/team-practice-2/
LOCATION:Harvest Park\, 2561 Barclay\, Maplewood\, 55901
END:VEVENT
BEGIN:VEVENT
DTSTART;TZID=America/Chicago:20150509T100000
DTEND;TZID=America/Chicago:20150509T130000
DTSTAMP:20260423T112753
CREATED:20150502T164815Z
LAST-MODIFIED:20150502T164815Z
UID:140-1431165600-1431176400@www.mnmillers.org
SUMMARY:Team Practice
DESCRIPTION:
URL:https://www.mnmillers.org/event/team-practice/
LOCATION:Harvest Park\, 2561 Barclay\, Maplewood\, 55901
END:VEVENT
BEGIN:VEVENT
DTSTART;VALUE=DATE:20140803
DTEND;VALUE=DATE:20140811
DTSTAMP:20260423T112753
CREATED:20140304T144134Z
LAST-MODIFIED:20140729T204805Z
UID:27-1407024000-1407715199@www.mnmillers.org
SUMMARY:2014 NBBA Beep Baseball World Series
DESCRIPTION:Come out and watch the most exciting sport played by athletes from all over the United states and Taiwan during this eeek long competition.  Competition starts on Tuesday\, August 5\, and continues until a Champion is crowned. \nGame Times are at: \n  \n*9:00 AM \n*11:30 AM \n*2:00 PM \n  \nAll times are in the Central Time zone. \n  \n 
URL:https://www.mnmillers.org/event/2014-beep-baseball-world-series/
LOCATION:Roy Watson Soccer Complex\, 1000 Essex Pkwy NW\,\, Rochester\, 55901
END:VEVENT
BEGIN:VEVENT
DTSTART;TZID=America/Chicago:20140712T163000
DTEND;TZID=America/Chicago:20140712T173000
DTSTAMP:20260423T112753
CREATED:20140623T183610Z
LAST-MODIFIED:20140623T190244Z
UID:99-1405182600-1405186200@www.mnmillers.org
SUMMARY:Beep Ball Demenstration at Allstar Fanfest
DESCRIPTION:Join the Millers and the NBBA as we share beep baseball with the world at the 2014 Allstar Fanfest.
URL:https://www.mnmillers.org/event/beep-ball-demenstration-at-allstar-fanfest/
LOCATION:Minneapolis Convention Center\, 1301 Second Avenue South\, Minneapolis\, 55403
END:VEVENT
BEGIN:VEVENT
DTSTART;VALUE=DATE:20140614
DTEND;VALUE=DATE:20140616
DTSTAMP:20260423T112753
CREATED:20140304T150016Z
LAST-MODIFIED:20140313T142911Z
UID:30-1402704000-1402876799@www.mnmillers.org
SUMMARY:Bolingbrook Beepball Bash
DESCRIPTION:The Minnesota Millers are proud to be competing in the 13th Annual Bolingbrook Beepball Bash. \n  \n 
URL:https://www.mnmillers.org/event/bolingbrook-beepball-bash/
END:VEVENT
BEGIN:VEVENT
DTSTART;TZID=America/Chicago:20140517T100000
DTEND;TZID=America/Chicago:20140517T130000
DTSTAMP:20260423T112753
CREATED:20140512T225227Z
LAST-MODIFIED:20140512T231522Z
UID:78-1400320800-1400331600@www.mnmillers.org
SUMMARY:MN Millers Practice
DESCRIPTION:The Minnesota Millers will be holding its first full squad practice on May 17th\, 2014 from 10 AM until 1 PM at: \n  \nCreton-Derham Hall Soccer field \n550 South Albert Avenue \nSt. Paul\, MN 55116 \n  \nWe are glad to welcome new members to the team and are hoping for a great start to a great swason.  The Minnesota Millers are taking part in the 2014 World Series being held in Rochester\, Minnesota from August 4 through August 9\, 2014. \n 
URL:https://www.mnmillers.org/event/mn-millers-practice/
LOCATION:Creton-Derham Hall Soccer field\, 550 South Albert Street\, \, St. Paul\, 55116
CATEGORIES:MN Millers Beep Baseball Practice
END:VEVENT
BEGIN:VEVENT
DTSTART;TZID=America/Chicago:20140315T073000
DTEND;TZID=America/Chicago:20140315T160000
DTSTAMP:20260423T112753
CREATED:20140311T120425Z
LAST-MODIFIED:20140311T120957Z
UID:62-1394868600-1394899200@www.mnmillers.org
SUMMARY:MD5M Lions Council of Governors
DESCRIPTION:The Minnesota Millers will be presenting to Lions from the Multiple District 5 of Minnesota on Saturday\, March 15\, 2014.  The presentation will be held at the Minneapolis Boulevard Hotel\, in Brooklyn Center\, Minnesoata. \n 
URL:https://www.mnmillers.org/event/md5m-lions-council-of-governors/
END:VEVENT
END:VCALENDAR